BEGIN:VCALENDAR
VERSION:2.0
PRODID:-//Milchjugend - ECPv6.15.19//NONSGML v1.0//EN
CALSCALE:GREGORIAN
METHOD:PUBLISH
X-ORIGINAL-URL:https://milchjugend.ch
X-WR-CALDESC:Veranstaltungen für Milchjugend
REFRESH-INTERVAL;VALUE=DURATION:PT1H
X-Robots-Tag:noindex
X-PUBLISHED-TTL:PT1H
BEGIN:VTIMEZONE
TZID:Europe/Zurich
BEGIN:DAYLIGHT
TZOFFSETFROM:+0100
TZOFFSETTO:+0200
TZNAME:CEST
DTSTART:20250330T010000
END:DAYLIGHT
BEGIN:STANDARD
TZOFFSETFROM:+0200
TZOFFSETTO:+0100
TZNAME:CET
DTSTART:20251026T010000
END:STANDARD
BEGIN:DAYLIGHT
TZOFFSETFROM:+0100
TZOFFSETTO:+0200
TZNAME:CEST
DTSTART:20260329T010000
END:DAYLIGHT
BEGIN:STANDARD
TZOFFSETFROM:+0200
TZOFFSETTO:+0100
TZNAME:CET
DTSTART:20261025T010000
END:STANDARD
BEGIN:DAYLIGHT
TZOFFSETFROM:+0100
TZOFFSETTO:+0200
TZNAME:CEST
DTSTART:20270328T010000
END:DAYLIGHT
BEGIN:STANDARD
TZOFFSETFROM:+0200
TZOFFSETTO:+0100
TZNAME:CET
DTSTART:20271031T010000
END:STANDARD
END:VTIMEZONE
BEGIN:VEVENT
DTSTART;TZID=Europe/Zurich:20260507T180000
DTEND;TZID=Europe/Zurich:20260507T230000
DTSTAMP:20260421T173428
CREATED:20260314T172804Z
LAST-MODIFIED:20260314T172804Z
UID:10003623-1778176800-1778194800@milchjugend.ch
SUMMARY:Milchbar Zürich
DESCRIPTION:Die Milchbar Zürich ist der Zürcher Ableger der Jugendtreffs der Milchjugend. Hier kannst du andere Queers kennenlernen und dich mit ihnen austauschen.  \nWir bieten einen Safer Space für Queers bis ca. 30 Jahre\, an welchem du dich wohl fühlen und dich selbst sein kannst.  \nEs gibt immer ein tolles Programm\, welches von unserem Team organisiert wird: Spiele Spiele\, bastle Pins\, geniesse ein Abendessen\, diskutiere über Drag\, erlebe Workshops und vieles mehr. Verbringe einen unvergesslichen Abend mit unglaublich tollen Menschen. \nWir befinden uns an der Zollstrasse 117\, 8005 Zürich auf der Terasse im 1. Stock\, diesen erreichst du über die Treppen auf der Seite des Gebäudes. Barrierefreier Zugang ist an der Eingangstüre 117 geschildert.  \nWir suchen Leute für unser Team! Sei es beim Dekorieren\, Aufräumen\, Kochen oder bei der Organisation von Events\, es sind keine Vorkenntnisse nötig. Melde dich unter https://milchjugend.ch/milchbar oder per E-Mail!(milchbar.zuerich@milchjugend.ch) \n  \nWir freuen uns auf dich! \nFolge uns auf Insta: milchbar_zuerich \nEine Welt der Milchjugend
URL:https://milchjugend.ch/event/milchbar-zuerich-3/2026-05-07/
LOCATION:Regenbogenhaus\, Zollstrasse 117\, Zürich\, 8005\, Schweiz
CATEGORIES:Austausch,Jugendtreff
ATTACH;FMTTYPE=image/jpeg:https://milchjugend.ch/wp-content/uploads/2026/03/Milchbar_Zuerich_Logo.jpeg
ORGANIZER;CN="Milchjugend":MAILTO:info@milchjugend.ch
GEO:47.3815838;8.5301125
X-APPLE-STRUCTURED-LOCATION;VALUE=URI;X-ADDRESS=Regenbogenhaus Zollstrasse 117 Zürich 8005 Schweiz;X-APPLE-RADIUS=500;X-TITLE=Zollstrasse 117:geo:8.5301125,47.3815838
END:VEVENT
BEGIN:VEVENT
DTSTART;TZID=Europe/Zurich:20260604T180000
DTEND;TZID=Europe/Zurich:20260604T230000
DTSTAMP:20260421T173428
CREATED:20260314T172804Z
LAST-MODIFIED:20260314T172804Z
UID:10003624-1780596000-1780614000@milchjugend.ch
SUMMARY:Milchbar Zürich
DESCRIPTION:Die Milchbar Zürich ist der Zürcher Ableger der Jugendtreffs der Milchjugend. Hier kannst du andere Queers kennenlernen und dich mit ihnen austauschen.  \nWir bieten einen Safer Space für Queers bis ca. 30 Jahre\, an welchem du dich wohl fühlen und dich selbst sein kannst.  \nEs gibt immer ein tolles Programm\, welches von unserem Team organisiert wird: Spiele Spiele\, bastle Pins\, geniesse ein Abendessen\, diskutiere über Drag\, erlebe Workshops und vieles mehr. Verbringe einen unvergesslichen Abend mit unglaublich tollen Menschen. \nWir befinden uns an der Zollstrasse 117\, 8005 Zürich auf der Terasse im 1. Stock\, diesen erreichst du über die Treppen auf der Seite des Gebäudes. Barrierefreier Zugang ist an der Eingangstüre 117 geschildert.  \nWir suchen Leute für unser Team! Sei es beim Dekorieren\, Aufräumen\, Kochen oder bei der Organisation von Events\, es sind keine Vorkenntnisse nötig. Melde dich unter https://milchjugend.ch/milchbar oder per E-Mail!(milchbar.zuerich@milchjugend.ch) \n  \nWir freuen uns auf dich! \nFolge uns auf Insta: milchbar_zuerich \nEine Welt der Milchjugend
URL:https://milchjugend.ch/event/milchbar-zuerich-3/2026-06-04/
LOCATION:Regenbogenhaus\, Zollstrasse 117\, Zürich\, 8005\, Schweiz
CATEGORIES:Austausch,Jugendtreff
ATTACH;FMTTYPE=image/jpeg:https://milchjugend.ch/wp-content/uploads/2026/03/Milchbar_Zuerich_Logo.jpeg
ORGANIZER;CN="Milchjugend":MAILTO:info@milchjugend.ch
GEO:47.3815838;8.5301125
X-APPLE-STRUCTURED-LOCATION;VALUE=URI;X-ADDRESS=Regenbogenhaus Zollstrasse 117 Zürich 8005 Schweiz;X-APPLE-RADIUS=500;X-TITLE=Zollstrasse 117:geo:8.5301125,47.3815838
END:VEVENT
BEGIN:VEVENT
DTSTART;TZID=Europe/Zurich:20260709T180000
DTEND;TZID=Europe/Zurich:20260709T230000
DTSTAMP:20260421T173428
CREATED:20260314T172804Z
LAST-MODIFIED:20260314T172804Z
UID:10003625-1783620000-1783638000@milchjugend.ch
SUMMARY:Milchbar Zürich
DESCRIPTION:Die Milchbar Zürich ist der Zürcher Ableger der Jugendtreffs der Milchjugend. Hier kannst du andere Queers kennenlernen und dich mit ihnen austauschen.  \nWir bieten einen Safer Space für Queers bis ca. 30 Jahre\, an welchem du dich wohl fühlen und dich selbst sein kannst.  \nEs gibt immer ein tolles Programm\, welches von unserem Team organisiert wird: Spiele Spiele\, bastle Pins\, geniesse ein Abendessen\, diskutiere über Drag\, erlebe Workshops und vieles mehr. Verbringe einen unvergesslichen Abend mit unglaublich tollen Menschen. \nWir befinden uns an der Zollstrasse 117\, 8005 Zürich auf der Terasse im 1. Stock\, diesen erreichst du über die Treppen auf der Seite des Gebäudes. Barrierefreier Zugang ist an der Eingangstüre 117 geschildert.  \nWir suchen Leute für unser Team! Sei es beim Dekorieren\, Aufräumen\, Kochen oder bei der Organisation von Events\, es sind keine Vorkenntnisse nötig. Melde dich unter https://milchjugend.ch/milchbar oder per E-Mail!(milchbar.zuerich@milchjugend.ch) \n  \nWir freuen uns auf dich! \nFolge uns auf Insta: milchbar_zuerich \nEine Welt der Milchjugend
URL:https://milchjugend.ch/event/milchbar-zuerich-3/2026-07-09/
LOCATION:Regenbogenhaus\, Zollstrasse 117\, Zürich\, 8005\, Schweiz
CATEGORIES:Austausch,Jugendtreff
ATTACH;FMTTYPE=image/jpeg:https://milchjugend.ch/wp-content/uploads/2026/03/Milchbar_Zuerich_Logo.jpeg
ORGANIZER;CN="Milchjugend":MAILTO:info@milchjugend.ch
GEO:47.3815838;8.5301125
X-APPLE-STRUCTURED-LOCATION;VALUE=URI;X-ADDRESS=Regenbogenhaus Zollstrasse 117 Zürich 8005 Schweiz;X-APPLE-RADIUS=500;X-TITLE=Zollstrasse 117:geo:8.5301125,47.3815838
END:VEVENT
BEGIN:VEVENT
DTSTART;TZID=Europe/Zurich:20260806T180000
DTEND;TZID=Europe/Zurich:20260806T230000
DTSTAMP:20260421T173428
CREATED:20260314T172804Z
LAST-MODIFIED:20260314T172804Z
UID:10003626-1786039200-1786057200@milchjugend.ch
SUMMARY:Milchbar Zürich
DESCRIPTION:Die Milchbar Zürich ist der Zürcher Ableger der Jugendtreffs der Milchjugend. Hier kannst du andere Queers kennenlernen und dich mit ihnen austauschen.  \nWir bieten einen Safer Space für Queers bis ca. 30 Jahre\, an welchem du dich wohl fühlen und dich selbst sein kannst.  \nEs gibt immer ein tolles Programm\, welches von unserem Team organisiert wird: Spiele Spiele\, bastle Pins\, geniesse ein Abendessen\, diskutiere über Drag\, erlebe Workshops und vieles mehr. Verbringe einen unvergesslichen Abend mit unglaublich tollen Menschen. \nWir befinden uns an der Zollstrasse 117\, 8005 Zürich auf der Terasse im 1. Stock\, diesen erreichst du über die Treppen auf der Seite des Gebäudes. Barrierefreier Zugang ist an der Eingangstüre 117 geschildert.  \nWir suchen Leute für unser Team! Sei es beim Dekorieren\, Aufräumen\, Kochen oder bei der Organisation von Events\, es sind keine Vorkenntnisse nötig. Melde dich unter https://milchjugend.ch/milchbar oder per E-Mail!(milchbar.zuerich@milchjugend.ch) \n  \nWir freuen uns auf dich! \nFolge uns auf Insta: milchbar_zuerich \nEine Welt der Milchjugend
URL:https://milchjugend.ch/event/milchbar-zuerich-3/2026-08-06/
LOCATION:Regenbogenhaus\, Zollstrasse 117\, Zürich\, 8005\, Schweiz
CATEGORIES:Austausch,Jugendtreff
ATTACH;FMTTYPE=image/jpeg:https://milchjugend.ch/wp-content/uploads/2026/03/Milchbar_Zuerich_Logo.jpeg
ORGANIZER;CN="Milchjugend":MAILTO:info@milchjugend.ch
GEO:47.3815838;8.5301125
X-APPLE-STRUCTURED-LOCATION;VALUE=URI;X-ADDRESS=Regenbogenhaus Zollstrasse 117 Zürich 8005 Schweiz;X-APPLE-RADIUS=500;X-TITLE=Zollstrasse 117:geo:8.5301125,47.3815838
END:VEVENT
BEGIN:VEVENT
DTSTART;TZID=Europe/Zurich:20260903T180000
DTEND;TZID=Europe/Zurich:20260903T230000
DTSTAMP:20260421T173428
CREATED:20260314T172804Z
LAST-MODIFIED:20260314T172804Z
UID:10003627-1788458400-1788476400@milchjugend.ch
SUMMARY:Milchbar Zürich
DESCRIPTION:Die Milchbar Zürich ist der Zürcher Ableger der Jugendtreffs der Milchjugend. Hier kannst du andere Queers kennenlernen und dich mit ihnen austauschen.  \nWir bieten einen Safer Space für Queers bis ca. 30 Jahre\, an welchem du dich wohl fühlen und dich selbst sein kannst.  \nEs gibt immer ein tolles Programm\, welches von unserem Team organisiert wird: Spiele Spiele\, bastle Pins\, geniesse ein Abendessen\, diskutiere über Drag\, erlebe Workshops und vieles mehr. Verbringe einen unvergesslichen Abend mit unglaublich tollen Menschen. \nWir befinden uns an der Zollstrasse 117\, 8005 Zürich auf der Terasse im 1. Stock\, diesen erreichst du über die Treppen auf der Seite des Gebäudes. Barrierefreier Zugang ist an der Eingangstüre 117 geschildert.  \nWir suchen Leute für unser Team! Sei es beim Dekorieren\, Aufräumen\, Kochen oder bei der Organisation von Events\, es sind keine Vorkenntnisse nötig. Melde dich unter https://milchjugend.ch/milchbar oder per E-Mail!(milchbar.zuerich@milchjugend.ch) \n  \nWir freuen uns auf dich! \nFolge uns auf Insta: milchbar_zuerich \nEine Welt der Milchjugend
URL:https://milchjugend.ch/event/milchbar-zuerich-3/2026-09-03/
LOCATION:Regenbogenhaus\, Zollstrasse 117\, Zürich\, 8005\, Schweiz
CATEGORIES:Austausch,Jugendtreff
ATTACH;FMTTYPE=image/jpeg:https://milchjugend.ch/wp-content/uploads/2026/03/Milchbar_Zuerich_Logo.jpeg
ORGANIZER;CN="Milchjugend":MAILTO:info@milchjugend.ch
GEO:47.3815838;8.5301125
X-APPLE-STRUCTURED-LOCATION;VALUE=URI;X-ADDRESS=Regenbogenhaus Zollstrasse 117 Zürich 8005 Schweiz;X-APPLE-RADIUS=500;X-TITLE=Zollstrasse 117:geo:8.5301125,47.3815838
END:VEVENT
BEGIN:VEVENT
DTSTART;TZID=Europe/Zurich:20261001T180000
DTEND;TZID=Europe/Zurich:20261001T230000
DTSTAMP:20260421T173428
CREATED:20260314T172804Z
LAST-MODIFIED:20260314T172804Z
UID:10003628-1790877600-1790895600@milchjugend.ch
SUMMARY:Milchbar Zürich
DESCRIPTION:Die Milchbar Zürich ist der Zürcher Ableger der Jugendtreffs der Milchjugend. Hier kannst du andere Queers kennenlernen und dich mit ihnen austauschen.  \nWir bieten einen Safer Space für Queers bis ca. 30 Jahre\, an welchem du dich wohl fühlen und dich selbst sein kannst.  \nEs gibt immer ein tolles Programm\, welches von unserem Team organisiert wird: Spiele Spiele\, bastle Pins\, geniesse ein Abendessen\, diskutiere über Drag\, erlebe Workshops und vieles mehr. Verbringe einen unvergesslichen Abend mit unglaublich tollen Menschen. \nWir befinden uns an der Zollstrasse 117\, 8005 Zürich auf der Terasse im 1. Stock\, diesen erreichst du über die Treppen auf der Seite des Gebäudes. Barrierefreier Zugang ist an der Eingangstüre 117 geschildert.  \nWir suchen Leute für unser Team! Sei es beim Dekorieren\, Aufräumen\, Kochen oder bei der Organisation von Events\, es sind keine Vorkenntnisse nötig. Melde dich unter https://milchjugend.ch/milchbar oder per E-Mail!(milchbar.zuerich@milchjugend.ch) \n  \nWir freuen uns auf dich! \nFolge uns auf Insta: milchbar_zuerich \nEine Welt der Milchjugend
URL:https://milchjugend.ch/event/milchbar-zuerich-3/2026-10-01/
LOCATION:Regenbogenhaus\, Zollstrasse 117\, Zürich\, 8005\, Schweiz
CATEGORIES:Austausch,Jugendtreff
ATTACH;FMTTYPE=image/jpeg:https://milchjugend.ch/wp-content/uploads/2026/03/Milchbar_Zuerich_Logo.jpeg
ORGANIZER;CN="Milchjugend":MAILTO:info@milchjugend.ch
GEO:47.3815838;8.5301125
X-APPLE-STRUCTURED-LOCATION;VALUE=URI;X-ADDRESS=Regenbogenhaus Zollstrasse 117 Zürich 8005 Schweiz;X-APPLE-RADIUS=500;X-TITLE=Zollstrasse 117:geo:8.5301125,47.3815838
END:VEVENT
BEGIN:VEVENT
DTSTART;TZID=Europe/Zurich:20261105T180000
DTEND;TZID=Europe/Zurich:20261105T230000
DTSTAMP:20260421T173428
CREATED:20260314T172804Z
LAST-MODIFIED:20260314T172804Z
UID:10003629-1793901600-1793919600@milchjugend.ch
SUMMARY:Milchbar Zürich
DESCRIPTION:Die Milchbar Zürich ist der Zürcher Ableger der Jugendtreffs der Milchjugend. Hier kannst du andere Queers kennenlernen und dich mit ihnen austauschen.  \nWir bieten einen Safer Space für Queers bis ca. 30 Jahre\, an welchem du dich wohl fühlen und dich selbst sein kannst.  \nEs gibt immer ein tolles Programm\, welches von unserem Team organisiert wird: Spiele Spiele\, bastle Pins\, geniesse ein Abendessen\, diskutiere über Drag\, erlebe Workshops und vieles mehr. Verbringe einen unvergesslichen Abend mit unglaublich tollen Menschen. \nWir befinden uns an der Zollstrasse 117\, 8005 Zürich auf der Terasse im 1. Stock\, diesen erreichst du über die Treppen auf der Seite des Gebäudes. Barrierefreier Zugang ist an der Eingangstüre 117 geschildert.  \nWir suchen Leute für unser Team! Sei es beim Dekorieren\, Aufräumen\, Kochen oder bei der Organisation von Events\, es sind keine Vorkenntnisse nötig. Melde dich unter https://milchjugend.ch/milchbar oder per E-Mail!(milchbar.zuerich@milchjugend.ch) \n  \nWir freuen uns auf dich! \nFolge uns auf Insta: milchbar_zuerich \nEine Welt der Milchjugend
URL:https://milchjugend.ch/event/milchbar-zuerich-3/2026-11-05/
LOCATION:Regenbogenhaus\, Zollstrasse 117\, Zürich\, 8005\, Schweiz
CATEGORIES:Austausch,Jugendtreff
ATTACH;FMTTYPE=image/jpeg:https://milchjugend.ch/wp-content/uploads/2026/03/Milchbar_Zuerich_Logo.jpeg
ORGANIZER;CN="Milchjugend":MAILTO:info@milchjugend.ch
GEO:47.3815838;8.5301125
X-APPLE-STRUCTURED-LOCATION;VALUE=URI;X-ADDRESS=Regenbogenhaus Zollstrasse 117 Zürich 8005 Schweiz;X-APPLE-RADIUS=500;X-TITLE=Zollstrasse 117:geo:8.5301125,47.3815838
END:VEVENT
BEGIN:VEVENT
DTSTART;TZID=Europe/Zurich:20261210T180000
DTEND;TZID=Europe/Zurich:20261210T230000
DTSTAMP:20260421T173428
CREATED:20260314T172804Z
LAST-MODIFIED:20260314T172804Z
UID:10003630-1796925600-1796943600@milchjugend.ch
SUMMARY:Milchbar Zürich
DESCRIPTION:Die Milchbar Zürich ist der Zürcher Ableger der Jugendtreffs der Milchjugend. Hier kannst du andere Queers kennenlernen und dich mit ihnen austauschen.  \nWir bieten einen Safer Space für Queers bis ca. 30 Jahre\, an welchem du dich wohl fühlen und dich selbst sein kannst.  \nEs gibt immer ein tolles Programm\, welches von unserem Team organisiert wird: Spiele Spiele\, bastle Pins\, geniesse ein Abendessen\, diskutiere über Drag\, erlebe Workshops und vieles mehr. Verbringe einen unvergesslichen Abend mit unglaublich tollen Menschen. \nWir befinden uns an der Zollstrasse 117\, 8005 Zürich auf der Terasse im 1. Stock\, diesen erreichst du über die Treppen auf der Seite des Gebäudes. Barrierefreier Zugang ist an der Eingangstüre 117 geschildert.  \nWir suchen Leute für unser Team! Sei es beim Dekorieren\, Aufräumen\, Kochen oder bei der Organisation von Events\, es sind keine Vorkenntnisse nötig. Melde dich unter https://milchjugend.ch/milchbar oder per E-Mail!(milchbar.zuerich@milchjugend.ch) \n  \nWir freuen uns auf dich! \nFolge uns auf Insta: milchbar_zuerich \nEine Welt der Milchjugend
URL:https://milchjugend.ch/event/milchbar-zuerich-3/2026-12-10/
LOCATION:Regenbogenhaus\, Zollstrasse 117\, Zürich\, 8005\, Schweiz
CATEGORIES:Austausch,Jugendtreff
ATTACH;FMTTYPE=image/jpeg:https://milchjugend.ch/wp-content/uploads/2026/03/Milchbar_Zuerich_Logo.jpeg
ORGANIZER;CN="Milchjugend":MAILTO:info@milchjugend.ch
GEO:47.3815838;8.5301125
X-APPLE-STRUCTURED-LOCATION;VALUE=URI;X-ADDRESS=Regenbogenhaus Zollstrasse 117 Zürich 8005 Schweiz;X-APPLE-RADIUS=500;X-TITLE=Zollstrasse 117:geo:8.5301125,47.3815838
END:VEVENT
END:VCALENDAR