BEGIN:VCALENDAR
VERSION:2.0
PRODID:-//Milchjugend - ECPv6.15.19//NONSGML v1.0//EN
CALSCALE:GREGORIAN
METHOD:PUBLISH
X-WR-CALNAME:Milchjugend
X-ORIGINAL-URL:https://milchjugend.ch
X-WR-CALDESC:Veranstaltungen für Milchjugend
REFRESH-INTERVAL;VALUE=DURATION:PT1H
X-Robots-Tag:noindex
X-PUBLISHED-TTL:PT1H
BEGIN:VTIMEZONE
TZID:Europe/Zurich
BEGIN:DAYLIGHT
TZOFFSETFROM:+0100
TZOFFSETTO:+0200
TZNAME:CEST
DTSTART:20240331T010000
END:DAYLIGHT
BEGIN:STANDARD
TZOFFSETFROM:+0200
TZOFFSETTO:+0100
TZNAME:CET
DTSTART:20241027T010000
END:STANDARD
BEGIN:DAYLIGHT
TZOFFSETFROM:+0100
TZOFFSETTO:+0200
TZNAME:CEST
DTSTART:20250330T010000
END:DAYLIGHT
BEGIN:STANDARD
TZOFFSETFROM:+0200
TZOFFSETTO:+0100
TZNAME:CET
DTSTART:20251026T010000
END:STANDARD
BEGIN:DAYLIGHT
TZOFFSETFROM:+0100
TZOFFSETTO:+0200
TZNAME:CEST
DTSTART:20260329T010000
END:DAYLIGHT
BEGIN:STANDARD
TZOFFSETFROM:+0200
TZOFFSETTO:+0100
TZNAME:CET
DTSTART:20261025T010000
END:STANDARD
END:VTIMEZONE
BEGIN:VEVENT
DTSTART;TZID=Europe/Zurich:20251115T190000
DTEND;TZID=Europe/Zurich:20251115T230000
DTSTAMP:20260423T021734
CREATED:20251115T154240Z
LAST-MODIFIED:20251115T154257Z
UID:10003041-1763233200-1763247600@milchjugend.ch
SUMMARY:Dankesessen 2025
DESCRIPTION:Und schon naht sich das Jahr 2025 einem Ende.\nDeswegen wollen wir dir Danke sagen. Danke für deine wertvolle Arbeit\, denn nur durch diese ist die Milchjugend heute das\, was sie ist. \nAm 20. Dezember 2025\n19:00 – Open End \nIm ComedyHaus / Théâtre a.part\nAlbisriederstrasse 16\, 8003 Zürich \n  \nAnmelden\, kannst du dich hier.
URL:https://milchjugend.ch/event/dankesessen-2025/
LOCATION:ComedyHaus / Théâtre a.part\, Albisriederstrasse 16\, Zürich\, ZH\, 8003\, Schweiz
CATEGORIES:Austausch,Bar
ATTACH;FMTTYPE=image/png:https://milchjugend.ch/wp-content/uploads/2025/11/DankesKarte-MJ-2025-_Quadrat.png
ORGANIZER;CN="Milchjugend":MAILTO:info@milchjugend.ch
GEO:47.3782758;8.5087026
X-APPLE-STRUCTURED-LOCATION;VALUE=URI;X-ADDRESS=ComedyHaus / Théâtre a.part Albisriederstrasse 16 Zürich ZH 8003 Schweiz;X-APPLE-RADIUS=500;X-TITLE=Albisriederstrasse 16:geo:8.5087026,47.3782758
END:VEVENT
END:VCALENDAR