BEGIN:VCALENDAR
VERSION:2.0
PRODID:-//Milchjugend - ECPv6.15.19//NONSGML v1.0//EN
CALSCALE:GREGORIAN
METHOD:PUBLISH
X-WR-CALNAME:Milchjugend
X-ORIGINAL-URL:https://milchjugend.ch
X-WR-CALDESC:Veranstaltungen für Milchjugend
REFRESH-INTERVAL;VALUE=DURATION:PT1H
X-Robots-Tag:noindex
X-PUBLISHED-TTL:PT1H
BEGIN:VTIMEZONE
TZID:Europe/Zurich
BEGIN:DAYLIGHT
TZOFFSETFROM:+0100
TZOFFSETTO:+0200
TZNAME:CEST
DTSTART:20250330T010000
END:DAYLIGHT
BEGIN:STANDARD
TZOFFSETFROM:+0200
TZOFFSETTO:+0100
TZNAME:CET
DTSTART:20251026T010000
END:STANDARD
BEGIN:DAYLIGHT
TZOFFSETFROM:+0100
TZOFFSETTO:+0200
TZNAME:CEST
DTSTART:20260329T010000
END:DAYLIGHT
BEGIN:STANDARD
TZOFFSETFROM:+0200
TZOFFSETTO:+0100
TZNAME:CET
DTSTART:20261025T010000
END:STANDARD
BEGIN:DAYLIGHT
TZOFFSETFROM:+0100
TZOFFSETTO:+0200
TZNAME:CEST
DTSTART:20270328T010000
END:DAYLIGHT
BEGIN:STANDARD
TZOFFSETFROM:+0200
TZOFFSETTO:+0100
TZNAME:CET
DTSTART:20271031T010000
END:STANDARD
END:VTIMEZONE
BEGIN:VEVENT
DTSTART;TZID=Europe/Zurich:20260214T183000
DTEND;TZID=Europe/Zurich:20260214T203000
DTSTAMP:20260422T155511
CREATED:20260212T145758Z
LAST-MODIFIED:20260212T145758Z
UID:10003305-1771093800-1771101000@milchjugend.ch
SUMMARY:WILL YOU BE MY VALENTINE? Ein Abend mit queeren Kurzfilmen
DESCRIPTION:Unsere Valentinspralinen sind gefüllt mit zarten Blicken und heissen Küssen\, feurigem Verlangen und beissender Sehnsucht – und ganz viel Liebe. Am 14. Februar präsentieren wir ein Schweizer Kurzfilmprogramm que(e)r zu klischierten Schnulzen\, von den 1970er-Jahren bis in die Gegenwart. Im Anschluss an die Vorführungen geben die Filmemacher*innen Einblick in ihr Schaffen. Eine Liebeserklärung an das (queere) Kino. Bon appétit!
URL:https://milchjugend.ch/event/will-you-be-my-valentine-ein-abend-mit-queeren-kurzfilmen/
LOCATION:stattkino\, Luzern\, 6004\, Schweiz
CATEGORIES:Film
ATTACH;FMTTYPE=image/jpeg:https://milchjugend.ch/wp-content/uploads/2026/02/Dia_What_is_LOVE_03-1.jpg
ORGANIZER;CN="stattkino":MAILTO:programm@stattkino.ch
GEO:47.0569197;8.3112638
END:VEVENT
BEGIN:VEVENT
DTSTART;TZID=Europe/Zurich:20260214T183000
DTEND;TZID=Europe/Zurich:20260214T203000
DTSTAMP:20260422T155511
CREATED:20260212T145713Z
LAST-MODIFIED:20260212T145713Z
UID:10003304-1771093800-1771101000@milchjugend.ch
SUMMARY:«What is love?» - Im Februar im stattkino Luzern
DESCRIPTION:«What is love?» ist eine Frage die Menschen schon seit jeher beschäftigt. Ist Liebe immer romantisch? Ist Liebe immer sexuell? Was machen Beziehungen aus und wie entsteht eigentlich eine besondere Verbundenheit zwischen zwei oder mehr Menschen? Wie drücken sich Verbundenheit\, Vertrauen\, Liebe in vielfältiger Weise aus? Kann Liebe ausserhalb von gewohnten Vorstellungen existieren?\nIn dieser ausgewählten thematischen Filmreihe versuchen wir den Begriff der Liebe nicht zu erklären\, aber in seiner Vielseitigkeit aufzuzeigen. Es geht um romantische\, alte\, freundschaftliche\, neue\, familiäre und spontane Liebe.\nWir wollen die Frage nach Liebe öffnen\, beantworten muss sie wohl jede:r für sich selbst.
URL:https://milchjugend.ch/event/what-is-love-im-februar-im-stattkino-luzern/
LOCATION:stattkino\, Luzern\, 6004\, Schweiz
CATEGORIES:Film
ATTACH;FMTTYPE=image/jpeg:https://milchjugend.ch/wp-content/uploads/2026/02/Dia_What_is_LOVE_03.jpg
ORGANIZER;CN="stattkino":MAILTO:programm@stattkino.ch
GEO:47.0569197;8.3112638
END:VEVENT
BEGIN:VEVENT
DTSTART;TZID=Europe/Zurich:20260227T193000
DTEND;TZID=Europe/Zurich:20260227T210000
DTSTAMP:20260422T155511
CREATED:20260113T122649Z
LAST-MODIFIED:20260115T131010Z
UID:10003234-1772220600-1772226000@milchjugend.ch
SUMMARY:Lesung: Miriam Suter und Marianne Pletscher
DESCRIPTION:Wir laden dich zu einer Lesung über geschlechtsspezifische Gewalt der letzten 50 Jahre ein. Die Autorinnen: Miriam Suter und Marianne Pletscher\nWir zeigen\, welche konkreten Fortschritte dank feministischer Bewegungen\, Gesetzesreformen und gesellschaftlicher Aufklärung erzielt wurden – mehr Rechte\, bessere Hilfsangebote\, veränderte Diskurse. Gleichzeitig beleuchten wir\, welche Muster nach wie vor bestehen: anhaltende Ungleichheiten\, wiederkehrende Gewaltformen und strukturelle Barrieren. \nDirekt im Anschluss öffnen wir den Raum für einen transgenerationalen Austausch: Bring deine Grosseltern\, Enkel\, Fragen und Ideen mit und lass uns gemeinsam weiterdenken und voneinander lernen!
URL:https://milchjugend.ch/event/lesung-miriam-suter-und-marianne-pletscher/
LOCATION:Kreuz Aarau – Raum für Kultur\, Küttigerstrasse 16\, Aarau\, Aargau\, 5000\, Schweiz
CATEGORIES:Literatur
ATTACH;FMTTYPE=image/jpeg:https://milchjugend.ch/wp-content/uploads/2026/01/merged-image-2026-1.jpeg
ORGANIZER;CN="Kreuz Aarau - Raum f%C3%BCr Kultur":MAILTO:info@kreuz-aarau.ch
GEO:47.3973102;8.040902
X-APPLE-STRUCTURED-LOCATION;VALUE=URI;X-ADDRESS=Kreuz Aarau – Raum für Kultur Küttigerstrasse 16 Aarau Aargau 5000 Schweiz;X-APPLE-RADIUS=500;X-TITLE=Küttigerstrasse 16:geo:8.040902,47.3973102
END:VEVENT
BEGIN:VEVENT
DTSTART;TZID=Europe/Zurich:20260327T200000
DTEND;TZID=Europe/Zurich:20260327T230000
DTSTAMP:20260422T155511
CREATED:20260204T105737Z
LAST-MODIFIED:20260204T105737Z
UID:10003241-1774641600-1774652400@milchjugend.ch
SUMMARY:Tribade
DESCRIPTION:Weg vom Dude hin zur Dyke: Tribade bringt queerfeministischer Hip-hop von Barcelona nach Zürich.\nTribade aus Barcelona legten 2019 mit ihrem Debüt Las Desheredadas einen regelrechten Senkrechtstart hin. Das Ziel: nichts geringeres als die ganze Welt. Claro. Die MCs Masiva Lulla und Bittah\, derzeit unterwegs mit DJ Mark spielten subito an renommierten Festivals\, wie dem TransMusicales in Frankreich\, dem Eurosonics in den Niederlande oder dem SXSW in Texas. Keine Bühne scheint dem Trio zu gross\, kein Soundsystem zu fett. \nSie schreiben selbst über sich: «Tribade is real HipHop\, from the streets and willing to be heard everywhere»\, was denn auch geschieht. Mit Songs\, die über eine Million plays verzeichnen und von Mexiko über Indien bis Neuseeland reichen\, könne man sagen: Tribade is being heard everywhere. \nWas auch bedeutet\, dass überall gehört wird\, wie antikapitalistische Lyrics auf Kritik am Heteropatriarchat treffen. Und Queerfeminismus auf Flamenco\, auf Afrotrap und Reggaeton. Eine absolut explosive Mischung\, die sich in die heutige Rap-Szene einwebt und sie zugleich aufdröselt\, weg vom Dude hin zur Dyke – wie das zweite Album von Tribade getauft ist. Also los\, Senkrechtstart\, Welt\, Rote Fabrik.
URL:https://milchjugend.ch/event/tribade/
LOCATION:Rote Fabrik\, Seestrasse\, Zürich\, Zürich\, 8038\, Switzerland
CATEGORIES:Konzert
ATTACH;FMTTYPE=image/jpeg:https://milchjugend.ch/wp-content/uploads/2026/01/TRIBADE-c-Martina-Lynk-10.jpg
ORGANIZER;CN="Rote Fabrik":MAILTO:info@rotefabrik.ch
GEO:47.3436126;8.5358288
X-APPLE-STRUCTURED-LOCATION;VALUE=URI;X-ADDRESS=Rote Fabrik Seestrasse Zürich Zürich 8038 Switzerland;X-APPLE-RADIUS=500;X-TITLE=Seestrasse:geo:8.5358288,47.3436126
END:VEVENT
END:VCALENDAR