BEGIN:VCALENDAR
VERSION:2.0
PRODID:-//Milchjugend - ECPv6.15.19//NONSGML v1.0//EN
CALSCALE:GREGORIAN
METHOD:PUBLISH
X-WR-CALNAME:Milchjugend
X-ORIGINAL-URL:https://milchjugend.ch
X-WR-CALDESC:Veranstaltungen für Milchjugend
REFRESH-INTERVAL;VALUE=DURATION:PT1H
X-Robots-Tag:noindex
X-PUBLISHED-TTL:PT1H
BEGIN:VTIMEZONE
TZID:Europe/Zurich
BEGIN:DAYLIGHT
TZOFFSETFROM:+0100
TZOFFSETTO:+0200
TZNAME:CEST
DTSTART:20250330T010000
END:DAYLIGHT
BEGIN:STANDARD
TZOFFSETFROM:+0200
TZOFFSETTO:+0100
TZNAME:CET
DTSTART:20251026T010000
END:STANDARD
BEGIN:DAYLIGHT
TZOFFSETFROM:+0100
TZOFFSETTO:+0200
TZNAME:CEST
DTSTART:20260329T010000
END:DAYLIGHT
BEGIN:STANDARD
TZOFFSETFROM:+0200
TZOFFSETTO:+0100
TZNAME:CET
DTSTART:20261025T010000
END:STANDARD
BEGIN:DAYLIGHT
TZOFFSETFROM:+0100
TZOFFSETTO:+0200
TZNAME:CEST
DTSTART:20270328T010000
END:DAYLIGHT
BEGIN:STANDARD
TZOFFSETFROM:+0200
TZOFFSETTO:+0100
TZNAME:CET
DTSTART:20271031T010000
END:STANDARD
END:VTIMEZONE
BEGIN:VEVENT
DTSTART;TZID=Europe/Zurich:20260328T173000
DTEND;TZID=Europe/Zurich:20260328T200000
DTSTAMP:20260422T070342
CREATED:20260303T223859Z
LAST-MODIFIED:20260303T224358Z
UID:10003348-1774719000-1774728000@milchjugend.ch
SUMMARY:Mitgliederversammlung 2026
DESCRIPTION:Milchjugend. Und du?\nDie legendäre Mitgliederversammlung findet dieses Jahr in Baden statt. Entdecke mit uns gleich zwei queere Locations: Werkk Baden (Veranstaltungsort der Milchbar Baden) und die UnvermeidBAR (queeres Kulturlokal). \nAlle Mitglieder der Milchjugend kommen einmal im Jahr zusammen. Wir blicken gemeinsam zurück\, was wir als Verein erreicht haben und werfen einen Blick in die Zukunft. \nDamit du an der MV wählen kannst\, musst du ein Mitglied der Milchjugend sein.\nDu kannst aber auch kommen\, ohne Mitglied zu sein oder vor Ort Mitglied werden. \nWir freuen uns auf dich!\nMehr Infos und die Anmeldung findest du hier. \n  \nProgramm\n17:30 Uhr\nNew Activist Apéro \n18:00 Uhr\nMitgliederversammlung \nAb 20:00 Uhr\nUnvermeidBAR \n  \nWas ist „New Activist Apéro“?\nWillst du mit uns…\nMitverändern? Mitkämpfen? Mitgestalten? \nSuchst du…\nDen Einstieg in die Community? Deine Queer Power? \nDann komm an unseren New Activists Apéro um 17:30 Uhr.\nDie Projekte der Milchjugend warten darauf\, dich kennenzulernen – und mit dir weiterzuwachsen. \nDu möchtest nicht alleine an die Mitgliederversammlung?\nAm New Activists Apéro triffst du auf tolle Menschen\, mit denen du danach an die MV weiterziehen kannst.
URL:https://milchjugend.ch/event/mitgliederversammlung-2026/
LOCATION:WERKK Baden\, Schmiedestrasse\, Baden\, Baden\, 5400
CATEGORIES:Austausch
ATTACH;FMTTYPE=image/jpeg:https://milchjugend.ch/wp-content/uploads/2026/03/Instapost-2.jpg
ORGANIZER;CN="Milchjugend":MAILTO:info@milchjugend.ch
GEO:47.4799963;8.3006636
X-APPLE-STRUCTURED-LOCATION;VALUE=URI;X-ADDRESS=WERKK Baden Schmiedestrasse Baden Baden 5400;X-APPLE-RADIUS=500;X-TITLE=Schmiedestrasse:geo:8.3006636,47.4799963
END:VEVENT
END:VCALENDAR