BEGIN:VCALENDAR
VERSION:2.0
PRODID:-//Milchjugend - ECPv6.15.19//NONSGML v1.0//EN
CALSCALE:GREGORIAN
METHOD:PUBLISH
X-ORIGINAL-URL:https://milchjugend.ch
X-WR-CALDESC:Veranstaltungen für Milchjugend
REFRESH-INTERVAL;VALUE=DURATION:PT1H
X-Robots-Tag:noindex
X-PUBLISHED-TTL:PT1H
BEGIN:VTIMEZONE
TZID:Europe/Zurich
BEGIN:DAYLIGHT
TZOFFSETFROM:+0100
TZOFFSETTO:+0200
TZNAME:CEST
DTSTART:20250330T010000
END:DAYLIGHT
BEGIN:STANDARD
TZOFFSETFROM:+0200
TZOFFSETTO:+0100
TZNAME:CET
DTSTART:20251026T010000
END:STANDARD
BEGIN:DAYLIGHT
TZOFFSETFROM:+0100
TZOFFSETTO:+0200
TZNAME:CEST
DTSTART:20260329T010000
END:DAYLIGHT
BEGIN:STANDARD
TZOFFSETFROM:+0200
TZOFFSETTO:+0100
TZNAME:CET
DTSTART:20261025T010000
END:STANDARD
BEGIN:DAYLIGHT
TZOFFSETFROM:+0100
TZOFFSETTO:+0200
TZNAME:CEST
DTSTART:20270328T010000
END:DAYLIGHT
BEGIN:STANDARD
TZOFFSETFROM:+0200
TZOFFSETTO:+0100
TZNAME:CET
DTSTART:20271031T010000
END:STANDARD
END:VTIMEZONE
BEGIN:VEVENT
DTSTART;TZID=Europe/Zurich:20260116T170000
DTEND;TZID=Europe/Zurich:20260117T133000
DTSTAMP:20260422T163407
CREATED:20251215T160353Z
LAST-MODIFIED:20260115T132029Z
UID:10003213-1768582800-1768656600@milchjugend.ch
SUMMARY:Queer Futures
DESCRIPTION:Wie können wir uns gemeinsam eine queere Zukunft vorstellen?\nTurbulente Zeiten: queere Menschrechte in Gefahr\, Hate Crimes steigen. Im Workshop wollen wir uns deswegen anschauen: Was gibt Hoffnung? Was ist schwierig? Und wie könnte eine Welt aussehen\, in der sich alle LGBTIQ+ Personen wohl und sicher fühlen? \n \nDer Workshop ist ein Raum\, um mitzureden und mitzuentscheiden; über Themen\, die queere Leben und das Wohlbefinden direkt betreffen. Deine Perspektiven fliessen in ein europäisches Forschungsprojekt ein\, das Stimmen von jungen LGBTIQ+ Erwachsenen in 5 Ländern verbindet. \nAls Dankeschön gibt es einen CHF 50 Gutschein. ÖV und Verpflegung übernehmen wir. \nMehr Infos und die Anmeldung findest du auf unserer Website (unten verlinkt). Wir freuen uns! \nWo und wann?\n\n2 Teile:\n\nFreitag 16. Januar 2026 17.00-20.30\nSamstag 17. Januar 2026 10.00 – 13.30\n\n\nRegenbogenhaus Zürich\n\n\n\n\n\n  \n  \nWer kann teilnehmen?\n\nDu bist zwischen 18 und 24 Jahre alt\nDu identifizierst dich als LGBTIQ+
URL:https://milchjugend.ch/event/queer-futures/
LOCATION:Regenbogenhaus\, Zollstrasse 117\, Zürich\, 8005\, Schweiz
CATEGORIES:Austausch,Workshop
ATTACH;FMTTYPE=image/png:https://milchjugend.ch/wp-content/uploads/2025/12/Kopie-von-LGBTIQ-Futures1.png
ORGANIZER;CN="LGBTIQ+ Futures Team der Fachhochschule Westschweiz":MAILTO:ad.ott@hevs.ch
GEO:47.3815838;8.5301125
X-APPLE-STRUCTURED-LOCATION;VALUE=URI;X-ADDRESS=Regenbogenhaus Zollstrasse 117 Zürich 8005 Schweiz;X-APPLE-RADIUS=500;X-TITLE=Zollstrasse 117:geo:8.5301125,47.3815838
END:VEVENT
END:VCALENDAR