BEGIN:VCALENDAR
VERSION:2.0
PRODID:-//Milchjugend - ECPv6.15.19//NONSGML v1.0//EN
CALSCALE:GREGORIAN
METHOD:PUBLISH
X-ORIGINAL-URL:https://milchjugend.ch
X-WR-CALDESC:Veranstaltungen für Milchjugend
REFRESH-INTERVAL;VALUE=DURATION:PT1H
X-Robots-Tag:noindex
X-PUBLISHED-TTL:PT1H
BEGIN:VTIMEZONE
TZID:Europe/Zurich
BEGIN:DAYLIGHT
TZOFFSETFROM:+0100
TZOFFSETTO:+0200
TZNAME:CEST
DTSTART:20250330T010000
END:DAYLIGHT
BEGIN:STANDARD
TZOFFSETFROM:+0200
TZOFFSETTO:+0100
TZNAME:CET
DTSTART:20251026T010000
END:STANDARD
BEGIN:DAYLIGHT
TZOFFSETFROM:+0100
TZOFFSETTO:+0200
TZNAME:CEST
DTSTART:20260329T010000
END:DAYLIGHT
BEGIN:STANDARD
TZOFFSETFROM:+0200
TZOFFSETTO:+0100
TZNAME:CET
DTSTART:20261025T010000
END:STANDARD
BEGIN:DAYLIGHT
TZOFFSETFROM:+0100
TZOFFSETTO:+0200
TZNAME:CEST
DTSTART:20270328T010000
END:DAYLIGHT
BEGIN:STANDARD
TZOFFSETFROM:+0200
TZOFFSETTO:+0100
TZNAME:CET
DTSTART:20271031T010000
END:STANDARD
END:VTIMEZONE
BEGIN:VEVENT
DTSTART;TZID=Europe/Zurich:20260203T190000
DTEND;TZID=Europe/Zurich:20260203T213000
DTSTAMP:20260422T150425
CREATED:20260119T145729Z
LAST-MODIFIED:20260119T145729Z
UID:10003239-1770145200-1770154200@milchjugend.ch
SUMMARY:Q.U.I.C.H.E. Kollektiv - Website Launch
DESCRIPTION:Q.U.I.C.H.E. ist ein queeres Schreibkollektiv aus Basel\, das seit über zwei Jahren Texte\, Publikationen\, Podcasts und Lesungen produziert. Dank Fördergeldern der Fachstelle Gleichstellung des Präsidialdepartements konnte Q.U.I.C.H.E. nun eine eigene Website für queeres Publishing in Basel umsetzen\, die an diesem Event vorgestellt und gefeiert werden soll. Neben kurzen Lesungen gibt es eine Peformance von Jo DyKing.
URL:https://milchjugend.ch/event/q-u-i-c-h-e-kollektiv-website-launch/
LOCATION:Kaserne Basel\, Klybeckstr. 1b\, Basel\, Basel-Stadt\, 4057\, Schweiz
CATEGORIES:Austausch,Bar,Drag
ATTACH;FMTTYPE=image/jpeg:https://milchjugend.ch/wp-content/uploads/2026/01/Q.U.I.C.H.E.-Arschgeweih-over-Denim.jpg
ORGANIZER;CN="Q.U.I.C.H.E.":MAILTO:kisses@quiche.love
GEO:47.5638411;7.5911571
X-APPLE-STRUCTURED-LOCATION;VALUE=URI;X-ADDRESS=Kaserne Basel Klybeckstr. 1b Basel Basel-Stadt 4057 Schweiz;X-APPLE-RADIUS=500;X-TITLE=Klybeckstr. 1b:geo:7.5911571,47.5638411
END:VEVENT
END:VCALENDAR