BEGIN:VCALENDAR
VERSION:2.0
PRODID:-//Milchjugend - ECPv6.15.19//NONSGML v1.0//EN
CALSCALE:GREGORIAN
METHOD:PUBLISH
X-WR-CALNAME:Milchjugend
X-ORIGINAL-URL:https://milchjugend.ch
X-WR-CALDESC:Veranstaltungen für Milchjugend
REFRESH-INTERVAL;VALUE=DURATION:PT1H
X-Robots-Tag:noindex
X-PUBLISHED-TTL:PT1H
BEGIN:VTIMEZONE
TZID:Europe/Zurich
BEGIN:DAYLIGHT
TZOFFSETFROM:+0100
TZOFFSETTO:+0200
TZNAME:CEST
DTSTART:20250330T010000
END:DAYLIGHT
BEGIN:STANDARD
TZOFFSETFROM:+0200
TZOFFSETTO:+0100
TZNAME:CET
DTSTART:20251026T010000
END:STANDARD
BEGIN:DAYLIGHT
TZOFFSETFROM:+0100
TZOFFSETTO:+0200
TZNAME:CEST
DTSTART:20260329T010000
END:DAYLIGHT
BEGIN:STANDARD
TZOFFSETFROM:+0200
TZOFFSETTO:+0100
TZNAME:CET
DTSTART:20261025T010000
END:STANDARD
BEGIN:DAYLIGHT
TZOFFSETFROM:+0100
TZOFFSETTO:+0200
TZNAME:CEST
DTSTART:20270328T010000
END:DAYLIGHT
BEGIN:STANDARD
TZOFFSETFROM:+0200
TZOFFSETTO:+0100
TZNAME:CET
DTSTART:20271031T010000
END:STANDARD
END:VTIMEZONE
BEGIN:VEVENT
DTSTART;TZID=Europe/Zurich:20260424T201500
DTEND;TZID=Europe/Zurich:20260424T214500
DTSTAMP:20260425T131344
CREATED:20260309T130212Z
LAST-MODIFIED:20260309T130256Z
UID:10003351-1777061700-1777067100@milchjugend.ch
SUMMARY:Das Luftschiff – Heimsuchung in Drag
DESCRIPTION:Musiktheater von X Schneeberger & Collectif barbare mit Michael Wolf \nWas passiert\, wenn die Welt immer enger und der Humor plötzlich überlebenswichtig wird? In einer Dachmansarde in retro-futuristischer Zukunft sinniert eine alternde Dragqueen ihren Erinnerungen nach. Das ganze Leben ist in Koffern verpackt\, und dies nicht nur aus Platzmangel in Metropolis. Die Stimmung ist apokalyptisch\, auf den Strassen ist ein Mob auf der Jagd nach Freaks\, wie sie die Dragqueens nennen. Mit Humor\, Musik und Imagination versucht die Dragqueen der Bedrohung von aussen zu entkommen\, auch wenn alle Fluchtwege geschlossen sind. In einem letzten Rausch tritt die Dragfamily auf und setzt Gemeinschaft gegen Ausgrenzung. \nDas eigensinnige Musiktheater basiert auf dem Text von X Schneeberger aka X Noëme\, Schweizer Buchpreisgewinner:in 2021. \nEin ebenso poetisches wie trotziges\, aber auch humorvolles Stück über das Anderssein in Zeiten des Rechtspopulismus \nAm 23.04. mit Publikumsgespräch im Anschluss. \nSpiel: Michael Wolf\nText: X Schneeberger\nKonzept\, Regie\, Ton\, Licht: Astride Schlaefli\nKomposition: Astride Schlaefli\, Armelle Scholl & Anna Trauffer\nAusstattung: Stephan Schwendimann\nElektronik & Mechanismen: David Merz\nTechnische Leitung: Robert Torche\nStimmen: Florence Schlumberger\, Sebastian Krähenbühl\, Robert Torche\, Freddy Kanyere\nProduktionsassistenz: Florence Schlumberger\nSocial media assistance: Raven Bühler \nwww.collectif-barbare.ch
URL:https://milchjugend.ch/event/das-luftschiff-heimsuchung-in-drag/2026-04-24/
LOCATION:ThiK Theater im Kornhaus Baden\, Kronengasse 10\, Baden\, Aargau\, 5400\, Schweiz
CATEGORIES:Drag,Theater
ATTACH;FMTTYPE=image/jpeg:https://milchjugend.ch/wp-content/uploads/2026/03/Das-Luftschiff-2-©-Fabrice-Nobs.jpg
ORGANIZER;CN="ThiK - Theater im Kornhaus Baden":MAILTO:info@thik.ch
GEO:47.4730386;8.3100156
X-APPLE-STRUCTURED-LOCATION;VALUE=URI;X-ADDRESS=ThiK Theater im Kornhaus Baden Kronengasse 10 Baden Aargau 5400 Schweiz;X-APPLE-RADIUS=500;X-TITLE=Kronengasse 10:geo:8.3100156,47.4730386
END:VEVENT
BEGIN:VEVENT
DTSTART;TZID=Europe/Zurich:20260423T201500
DTEND;TZID=Europe/Zurich:20260423T214500
DTSTAMP:20260425T131344
CREATED:20260309T130212Z
LAST-MODIFIED:20260309T130256Z
UID:10003350-1776975300-1776980700@milchjugend.ch
SUMMARY:Das Luftschiff – Heimsuchung in Drag
DESCRIPTION:Musiktheater von X Schneeberger & Collectif barbare mit Michael Wolf \nWas passiert\, wenn die Welt immer enger und der Humor plötzlich überlebenswichtig wird? In einer Dachmansarde in retro-futuristischer Zukunft sinniert eine alternde Dragqueen ihren Erinnerungen nach. Das ganze Leben ist in Koffern verpackt\, und dies nicht nur aus Platzmangel in Metropolis. Die Stimmung ist apokalyptisch\, auf den Strassen ist ein Mob auf der Jagd nach Freaks\, wie sie die Dragqueens nennen. Mit Humor\, Musik und Imagination versucht die Dragqueen der Bedrohung von aussen zu entkommen\, auch wenn alle Fluchtwege geschlossen sind. In einem letzten Rausch tritt die Dragfamily auf und setzt Gemeinschaft gegen Ausgrenzung. \nDas eigensinnige Musiktheater basiert auf dem Text von X Schneeberger aka X Noëme\, Schweizer Buchpreisgewinner:in 2021. \nEin ebenso poetisches wie trotziges\, aber auch humorvolles Stück über das Anderssein in Zeiten des Rechtspopulismus \nAm 23.04. mit Publikumsgespräch im Anschluss. \nSpiel: Michael Wolf\nText: X Schneeberger\nKonzept\, Regie\, Ton\, Licht: Astride Schlaefli\nKomposition: Astride Schlaefli\, Armelle Scholl & Anna Trauffer\nAusstattung: Stephan Schwendimann\nElektronik & Mechanismen: David Merz\nTechnische Leitung: Robert Torche\nStimmen: Florence Schlumberger\, Sebastian Krähenbühl\, Robert Torche\, Freddy Kanyere\nProduktionsassistenz: Florence Schlumberger\nSocial media assistance: Raven Bühler \nwww.collectif-barbare.ch
URL:https://milchjugend.ch/event/das-luftschiff-heimsuchung-in-drag/2026-04-23/
LOCATION:ThiK Theater im Kornhaus Baden\, Kronengasse 10\, Baden\, Aargau\, 5400\, Schweiz
CATEGORIES:Drag,Theater
ATTACH;FMTTYPE=image/jpeg:https://milchjugend.ch/wp-content/uploads/2026/03/Das-Luftschiff-2-©-Fabrice-Nobs.jpg
ORGANIZER;CN="ThiK - Theater im Kornhaus Baden":MAILTO:info@thik.ch
GEO:47.4730386;8.3100156
X-APPLE-STRUCTURED-LOCATION;VALUE=URI;X-ADDRESS=ThiK Theater im Kornhaus Baden Kronengasse 10 Baden Aargau 5400 Schweiz;X-APPLE-RADIUS=500;X-TITLE=Kronengasse 10:geo:8.3100156,47.4730386
END:VEVENT
END:VCALENDAR