BEGIN:VCALENDAR
VERSION:2.0
PRODID:-//Milchjugend - ECPv6.15.19//NONSGML v1.0//EN
CALSCALE:GREGORIAN
METHOD:PUBLISH
X-ORIGINAL-URL:https://milchjugend.ch
X-WR-CALDESC:Veranstaltungen für Milchjugend
REFRESH-INTERVAL;VALUE=DURATION:PT1H
X-Robots-Tag:noindex
X-PUBLISHED-TTL:PT1H
BEGIN:VTIMEZONE
TZID:Europe/Zurich
BEGIN:DAYLIGHT
TZOFFSETFROM:+0100
TZOFFSETTO:+0200
TZNAME:CEST
DTSTART:20250330T010000
END:DAYLIGHT
BEGIN:STANDARD
TZOFFSETFROM:+0200
TZOFFSETTO:+0100
TZNAME:CET
DTSTART:20251026T010000
END:STANDARD
BEGIN:DAYLIGHT
TZOFFSETFROM:+0100
TZOFFSETTO:+0200
TZNAME:CEST
DTSTART:20260329T010000
END:DAYLIGHT
BEGIN:STANDARD
TZOFFSETFROM:+0200
TZOFFSETTO:+0100
TZNAME:CET
DTSTART:20261025T010000
END:STANDARD
BEGIN:DAYLIGHT
TZOFFSETFROM:+0100
TZOFFSETTO:+0200
TZNAME:CEST
DTSTART:20270328T010000
END:DAYLIGHT
BEGIN:STANDARD
TZOFFSETFROM:+0200
TZOFFSETTO:+0100
TZNAME:CET
DTSTART:20271031T010000
END:STANDARD
END:VTIMEZONE
BEGIN:VEVENT
DTSTART;TZID=Europe/Zurich:20260619T200000
DTEND;TZID=Europe/Zurich:20260619T230000
DTSTAMP:20260422T004259
CREATED:20260216T135419Z
LAST-MODIFIED:20260306T143306Z
UID:10003327-1781899200-1781910000@milchjugend.ch
SUMMARY:Milchbar Bienne - Event
DESCRIPTION:+++DE+++ \nParty\nMehr Infos folgen oder auf Instagram @milchbar_bienne \n  \n+++FR+++ \nParty\nPlus d’informations à venir ou sur Instagram @milchbar_bienne
URL:https://milchjugend.ch/event/milchbar-bienne-event-3/
LOCATION:Amicale 17\, Unterer Quai 30\, Biel\, BE\, 2503\, Schweiz
CATEGORIES:Austausch,Bar,Film
ATTACH;FMTTYPE=image/jpeg:https://milchjugend.ch/wp-content/uploads/2025/08/Logo_Milchbar-1.jpg
ORGANIZER;CN="Milchjugend":MAILTO:info@milchjugend.ch
GEO:47.1334411;7.238522
X-APPLE-STRUCTURED-LOCATION;VALUE=URI;X-ADDRESS=Amicale 17 Unterer Quai 30 Biel BE 2503 Schweiz;X-APPLE-RADIUS=500;X-TITLE=Unterer Quai 30:geo:7.238522,47.1334411
END:VEVENT
END:VCALENDAR