BEGIN:VCALENDAR
VERSION:2.0
PRODID:-//Milchjugend - ECPv6.15.19//NONSGML v1.0//EN
CALSCALE:GREGORIAN
METHOD:PUBLISH
X-WR-CALNAME:Milchjugend
X-ORIGINAL-URL:https://milchjugend.ch
X-WR-CALDESC:Veranstaltungen für Milchjugend
REFRESH-INTERVAL;VALUE=DURATION:PT1H
X-Robots-Tag:noindex
X-PUBLISHED-TTL:PT1H
BEGIN:VTIMEZONE
TZID:Europe/Zurich
BEGIN:DAYLIGHT
TZOFFSETFROM:+0100
TZOFFSETTO:+0200
TZNAME:CEST
DTSTART:20230326T010000
END:DAYLIGHT
BEGIN:STANDARD
TZOFFSETFROM:+0200
TZOFFSETTO:+0100
TZNAME:CET
DTSTART:20231029T010000
END:STANDARD
BEGIN:DAYLIGHT
TZOFFSETFROM:+0100
TZOFFSETTO:+0200
TZNAME:CEST
DTSTART:20240331T010000
END:DAYLIGHT
BEGIN:STANDARD
TZOFFSETFROM:+0200
TZOFFSETTO:+0100
TZNAME:CET
DTSTART:20241027T010000
END:STANDARD
BEGIN:DAYLIGHT
TZOFFSETFROM:+0100
TZOFFSETTO:+0200
TZNAME:CEST
DTSTART:20250330T010000
END:DAYLIGHT
BEGIN:STANDARD
TZOFFSETFROM:+0200
TZOFFSETTO:+0100
TZNAME:CET
DTSTART:20251026T010000
END:STANDARD
BEGIN:DAYLIGHT
TZOFFSETFROM:+0100
TZOFFSETTO:+0200
TZNAME:CEST
DTSTART:20260329T010000
END:DAYLIGHT
BEGIN:STANDARD
TZOFFSETFROM:+0200
TZOFFSETTO:+0100
TZNAME:CET
DTSTART:20261025T010000
END:STANDARD
BEGIN:DAYLIGHT
TZOFFSETFROM:+0100
TZOFFSETTO:+0200
TZNAME:CEST
DTSTART:20270328T010000
END:DAYLIGHT
BEGIN:STANDARD
TZOFFSETFROM:+0200
TZOFFSETTO:+0100
TZNAME:CET
DTSTART:20271031T010000
END:STANDARD
END:VTIMEZONE
BEGIN:VEVENT
DTSTART;TZID=Europe/Zurich:20260213T180000
DTEND;TZID=Europe/Zurich:20260214T020000
DTSTAMP:20260422T233925
CREATED:20251218T153647Z
LAST-MODIFIED:20260204T133820Z
UID:10003220-1771005600-1771034400@milchjugend.ch
SUMMARY:Milchball 2026
DESCRIPTION:Aufgrund paranormaler Ereignisse wurde der Milchball ins All verlegt. Ausnahmsweise findet die nächste Ausgabe der Party\, um den ikonischen Kreisbällen der 40er und 50er Jahre zu erinnern\, im Comedy Haus statt. Starte deinen Streifzug durch die Partynacht mit interstellaren DJ Sets und ausserirdischen Drag Performances. \nDresscode: Komm so wie du dich wohl fühlst! Falls du aber noch Inspiration brauchst: denke an Space Age\, Alien Superstar und alles was sich sonst noch im All herumtreibt. \nHol dir deine Tickets auf Eventfrog oder vor Ort! \nDu kannst am Milchball auch mithelfen und dir ein gratis Ticket sichern!\nIch will mithelfen!
URL:https://milchjugend.ch/event/milchball-2026/
LOCATION:ComedyHaus / Théâtre a.part\, Albisriederstrasse 16\, Zürich\, ZH\, 8003\, Schweiz
CATEGORIES:Party
ATTACH;FMTTYPE=image/jpeg:https://milchjugend.ch/wp-content/uploads/2025/12/Visual_Eventfrog_mTextur.jpg
ORGANIZER;CN="Milchjugend":MAILTO:info@milchjugend.ch
GEO:47.3782758;8.5087026
X-APPLE-STRUCTURED-LOCATION;VALUE=URI;X-ADDRESS=ComedyHaus / Théâtre a.part Albisriederstrasse 16 Zürich ZH 8003 Schweiz;X-APPLE-RADIUS=500;X-TITLE=Albisriederstrasse 16:geo:8.5087026,47.3782758
END:VEVENT
BEGIN:VEVENT
DTSTART;TZID=Europe/Zurich:20251115T190000
DTEND;TZID=Europe/Zurich:20251115T230000
DTSTAMP:20260422T233925
CREATED:20251115T154240Z
LAST-MODIFIED:20251115T154257Z
UID:10003041-1763233200-1763247600@milchjugend.ch
SUMMARY:Dankesessen 2025
DESCRIPTION:Und schon naht sich das Jahr 2025 einem Ende.\nDeswegen wollen wir dir Danke sagen. Danke für deine wertvolle Arbeit\, denn nur durch diese ist die Milchjugend heute das\, was sie ist. \nAm 20. Dezember 2025\n19:00 – Open End \nIm ComedyHaus / Théâtre a.part\nAlbisriederstrasse 16\, 8003 Zürich \n  \nAnmelden\, kannst du dich hier.
URL:https://milchjugend.ch/event/dankesessen-2025/
LOCATION:ComedyHaus / Théâtre a.part\, Albisriederstrasse 16\, Zürich\, ZH\, 8003\, Schweiz
CATEGORIES:Austausch,Bar
ATTACH;FMTTYPE=image/png:https://milchjugend.ch/wp-content/uploads/2025/11/DankesKarte-MJ-2025-_Quadrat.png
ORGANIZER;CN="Milchjugend":MAILTO:info@milchjugend.ch
GEO:47.3782758;8.5087026
X-APPLE-STRUCTURED-LOCATION;VALUE=URI;X-ADDRESS=ComedyHaus / Théâtre a.part Albisriederstrasse 16 Zürich ZH 8003 Schweiz;X-APPLE-RADIUS=500;X-TITLE=Albisriederstrasse 16:geo:8.5087026,47.3782758
END:VEVENT
BEGIN:VEVENT
DTSTART;TZID=Europe/Zurich:20250329T183000
DTEND;TZID=Europe/Zurich:20250329T220000
DTSTAMP:20260422T233925
CREATED:20240811T144349Z
LAST-MODIFIED:20250228T093240Z
UID:10001398-1743273000-1743285600@milchjugend.ch
SUMMARY:Milchjugend Mitgliederversammlung 2025 (MV 2025)
DESCRIPTION:Um an die MV zu kommen\, musst du nicht Mitglied sein. Wenn du an dieser aber abstimmen möchtest\, musst du Mitglied sein oder kannst dies vor Ort abschliessen. \nWir freuen uns auf dich! 🌈 \nMehr Infos via Newsletter und Instagram.
URL:https://milchjugend.ch/event/milchjugend-mitgliederversammlung-2025/
LOCATION:ComedyHaus / Théâtre a.part\, Albisriederstrasse 16\, Zürich\, ZH\, 8003\, Schweiz
ATTACH;FMTTYPE=image/jpeg:https://milchjugend.ch/wp-content/uploads/2024/08/milchjugend-mv-2025.jpg
ORGANIZER;CN="Milchjugend":MAILTO:info@milchjugend.ch
GEO:47.3782758;8.5087026
X-APPLE-STRUCTURED-LOCATION;VALUE=URI;X-ADDRESS=ComedyHaus / Théâtre a.part Albisriederstrasse 16 Zürich ZH 8003 Schweiz;X-APPLE-RADIUS=500;X-TITLE=Albisriederstrasse 16:geo:8.5087026,47.3782758
END:VEVENT
BEGIN:VEVENT
DTSTART;TZID=Europe/Zurich:20250329T173000
DTEND;TZID=Europe/Zurich:20250329T183000
DTSTAMP:20260422T233925
CREATED:20250325T145221Z
LAST-MODIFIED:20250325T145221Z
UID:10002593-1743269400-1743273000@milchjugend.ch
SUMMARY:Apéro. Spiele. Buttons. Vor der MV
DESCRIPTION:Am 29.03.2025 ab 17:30 stimmen wir uns mit Apéro\, Spielen und Buttons auf die Mitgliederversammlung ein.\nWo: ComedyHouse\, Albisriederstrasse 16\, 8003 Zürich\nKomm unbedingt vorbei!\nDie perfekte Gelegenheit Teil von der Milchjugend zu werden. Spiele Spiele\, kreiere Buttons\, lerne neue Leute kennen und tratsche mit uns übers Queersein. Danach gehen wir alle gmeinsam an die Mitgliederversammlung\, welche um 19:00 startet. \nDu willst nicht alleine hin? Dann komm um 17:30 an unseren Treffpunkt an der Tramhaltestelle Albisriederplatz.
URL:https://milchjugend.ch/event/apero-spiele-buttons-vor-der-mv/
LOCATION:ComedyHaus / Théâtre a.part\, Albisriederstrasse 16\, Zürich\, ZH\, 8003\, Schweiz
ATTACH;FMTTYPE=image/jpeg:https://milchjugend.ch/wp-content/uploads/2025/03/mv-milchjugend-apero.jpg
ORGANIZER;CN="Milchjugend":MAILTO:info@milchjugend.ch
GEO:47.3782758;8.5087026
X-APPLE-STRUCTURED-LOCATION;VALUE=URI;X-ADDRESS=ComedyHaus / Théâtre a.part Albisriederstrasse 16 Zürich ZH 8003 Schweiz;X-APPLE-RADIUS=500;X-TITLE=Albisriederstrasse 16:geo:8.5087026,47.3782758
END:VEVENT
BEGIN:VEVENT
DTSTART;TZID=Europe/Zurich:20240906T200000
DTEND;TZID=Europe/Zurich:20240906T213000
DTSTAMP:20260422T233925
CREATED:20240807T145521Z
LAST-MODIFIED:20240827T122452Z
UID:10001389-1725652800-1725658200@milchjugend.ch
SUMMARY:Lesben und Porträts – Luise F. Pusch
DESCRIPTION:Luise F. Puschs fantastisches Frauenbiografiewerk – online und offline \nModeration: Madeleine Marti\, Sappho-Verein Alessandra Widmer\, Lesbenorganisation Schweiz (LOS) \nDieses Jahr hat Luise F. Pusch ihren 80. Geburtstag gefeiert und ist weiterhin kreativ unterwegs. \nBekannt als feministische Linguistin („Das Deutsche als Männersprache“)\, schreibt Luise F. Pusch seit 1982 auch an einer Frauenchronik und arbeitet gemeinsam mit Freundinnen weiter an diesem grossen Werk\, das Frauen und insbesondere auch lesbische Frauen\, in das Bewusstsein bringt. \nZu diesem Zweck hat sie die Online-Datenbank fembio.org mit 12‘000 Biografien aufgebaut – weitere 20‘000 Datensätze zu Frauenbiografien sind offline verfügbar. \nSeit 1987 publiziert Luise F. Pusch zudem den „Berühmte Frauen Kalender“ und hat 8 Porträtbände mit Frauenbiografien herausgegeben: Schwestern/ Töchter/Mütter berühmter Frauen\, Wahnsinnsfrauen (3 Bd.)\, Berühmte Frauen (2 Bd.). \nLuise F. Pusch stellt ein paar besonders interessante Lesben\, Frauen vor\, und zeigt\, wie bestimmte Frauengruppen in der Online-Datenbank gefunden werden können. \nSie erzählt\, wie sie mit der Arbeit an dieser Frauenchronik begonnen hat und wie sich das Projekt durch die Digitalisierung verändert hat.
URL:https://milchjugend.ch/event/lesben-und-portraets-luise-f-pusch/
LOCATION:ComedyHaus / Théâtre a.part\, Albisriederstrasse 16\, Zürich\, ZH\, 8003\, Schweiz
CATEGORIES:Literatur
ATTACH;FMTTYPE=image/jpeg:https://milchjugend.ch/wp-content/uploads/2024/08/LFP-von-Sabine-Wunderlin_klein.jpg
ORGANIZER;CN="Sappho Verein":MAILTO:lsg@gmx.ch
GEO:47.3782758;8.5087026
X-APPLE-STRUCTURED-LOCATION;VALUE=URI;X-ADDRESS=ComedyHaus / Théâtre a.part Albisriederstrasse 16 Zürich ZH 8003 Schweiz;X-APPLE-RADIUS=500;X-TITLE=Albisriederstrasse 16:geo:8.5087026,47.3782758
END:VEVENT
END:VCALENDAR