BEGIN:VCALENDAR
VERSION:2.0
PRODID:-//Milchjugend - ECPv6.15.19//NONSGML v1.0//EN
CALSCALE:GREGORIAN
METHOD:PUBLISH
X-ORIGINAL-URL:https://milchjugend.ch
X-WR-CALDESC:Veranstaltungen für Milchjugend
REFRESH-INTERVAL;VALUE=DURATION:PT1H
X-Robots-Tag:noindex
X-PUBLISHED-TTL:PT1H
BEGIN:VTIMEZONE
TZID:Europe/Zurich
BEGIN:DAYLIGHT
TZOFFSETFROM:+0100
TZOFFSETTO:+0200
TZNAME:CEST
DTSTART:20250330T010000
END:DAYLIGHT
BEGIN:STANDARD
TZOFFSETFROM:+0200
TZOFFSETTO:+0100
TZNAME:CET
DTSTART:20251026T010000
END:STANDARD
BEGIN:DAYLIGHT
TZOFFSETFROM:+0100
TZOFFSETTO:+0200
TZNAME:CEST
DTSTART:20260329T010000
END:DAYLIGHT
BEGIN:STANDARD
TZOFFSETFROM:+0200
TZOFFSETTO:+0100
TZNAME:CET
DTSTART:20261025T010000
END:STANDARD
BEGIN:DAYLIGHT
TZOFFSETFROM:+0100
TZOFFSETTO:+0200
TZNAME:CEST
DTSTART:20270328T010000
END:DAYLIGHT
BEGIN:STANDARD
TZOFFSETFROM:+0200
TZOFFSETTO:+0100
TZNAME:CET
DTSTART:20271031T010000
END:STANDARD
END:VTIMEZONE
BEGIN:VEVENT
DTSTART;TZID=Europe/Zurich:20260328T220000
DTEND;TZID=Europe/Zurich:20260329T040000
DTSTAMP:20260422T042143
CREATED:20260223T150615Z
LAST-MODIFIED:20260223T150615Z
UID:10003333-1774735200-1774756800@milchjugend.ch
SUMMARY:XKANDALO!
DESCRIPTION:XKANDALO! — Zürich \nXKANDALO! is Zürich’s newest party concept. Inclusive\, bold and unapologetically glamorous. \nDesigned for open-minded people who think outside the box\, love to express themselves and enjoy being surrounded by curious\, playful and ‚Xkandalous‘ individuals. A new unique experience built on inclusive values\, where connections come first and everyone is invited to be ‚Xpectacular‘. \nXKANDALO! is about creating a space where you can feel gorgeous\, safe and secure. A place where you can be fully yourself\, free from labels\, judgement and limits. \nA brand new party concept that begins at Mama Shelter. A home for expression\, joy and fearless individuality. A place that protects\, welcomes and invites you to be exactly who you are and more.  \n🎧 LINE UP \nExpect fashion-forward house energy\, bold rhythms and a dancefloor atmosphere designed for connection and expression. \nDJ Nicole Martinez (Zürich & Ibiza)\nDJ Valkyrion (Zürich) \nThe night will be hosted by the sensational Oh! Beverly and will also include surprise performances\, featuring special guest star Anissa Damali\, alongside additional unexpected moments and different artists throughout the evening. \nBring the drama!  \nThis is where our story begins! \nDon’t let them tell you about it\, be part of it!
URL:https://milchjugend.ch/event/xkandalo/
LOCATION:MAMA SHELTER\, Schulstrasse 44\, Zürich\, 8050\, Schweiz
CATEGORIES:Party
ATTACH;FMTTYPE=image/jpeg:https://milchjugend.ch/wp-content/uploads/2026/02/Main_Flyer_XKANDALO.jpg
ORGANIZER;CN="XKANDALO!":MAILTO:x.kandalo@outlook.com
GEO:47.4107636;8.5437246
X-APPLE-STRUCTURED-LOCATION;VALUE=URI;X-ADDRESS=MAMA SHELTER Schulstrasse 44 Zürich 8050 Schweiz;X-APPLE-RADIUS=500;X-TITLE=Schulstrasse 44:geo:8.5437246,47.4107636
END:VEVENT
END:VCALENDAR