BEGIN:VCALENDAR
VERSION:2.0
PRODID:-//Milchjugend - ECPv6.15.19//NONSGML v1.0//EN
CALSCALE:GREGORIAN
METHOD:PUBLISH
X-WR-CALNAME:Milchjugend
X-ORIGINAL-URL:https://milchjugend.ch
X-WR-CALDESC:Veranstaltungen für Milchjugend
REFRESH-INTERVAL;VALUE=DURATION:PT1H
X-Robots-Tag:noindex
X-PUBLISHED-TTL:PT1H
BEGIN:VTIMEZONE
TZID:Europe/Zurich
BEGIN:DAYLIGHT
TZOFFSETFROM:+0100
TZOFFSETTO:+0200
TZNAME:CEST
DTSTART:20240331T010000
END:DAYLIGHT
BEGIN:STANDARD
TZOFFSETFROM:+0200
TZOFFSETTO:+0100
TZNAME:CET
DTSTART:20241027T010000
END:STANDARD
BEGIN:DAYLIGHT
TZOFFSETFROM:+0100
TZOFFSETTO:+0200
TZNAME:CEST
DTSTART:20250330T010000
END:DAYLIGHT
BEGIN:STANDARD
TZOFFSETFROM:+0200
TZOFFSETTO:+0100
TZNAME:CET
DTSTART:20251026T010000
END:STANDARD
BEGIN:DAYLIGHT
TZOFFSETFROM:+0100
TZOFFSETTO:+0200
TZNAME:CEST
DTSTART:20260329T010000
END:DAYLIGHT
BEGIN:STANDARD
TZOFFSETFROM:+0200
TZOFFSETTO:+0100
TZNAME:CET
DTSTART:20261025T010000
END:STANDARD
END:VTIMEZONE
BEGIN:VEVENT
DTSTART;TZID=Europe/Zurich:20251216T180000
DTEND;TZID=Europe/Zurich:20251216T220000
DTSTAMP:20260423T191209
CREATED:20251110T125047Z
LAST-MODIFIED:20251110T125047Z
UID:10003040-1765908000-1765922400@milchjugend.ch
SUMMARY:LANDGBTQIA+ – Anlässe zu Ländlichkeit und Queerness
DESCRIPTION:  \nVeranstaltungen zu Ländlichkeit und Queerness \nIm Rahmen von Max Wymanns Kunstprojekt Berner Bauernqueeramik organisieren wir verschiedene Anlässe zu Ländlichkeit und Queerness. An allen Daten sind Prototypen der queeren Bauernkeramik sowie Einblicke in die Recherche zur Schweizer LGBTQIA+-Geschichte und zur Berner Bauernkeramik zu sehen. Das Rahmenprogramm soll ländliche Queers vernetzen\, unsere Community zugänglicher \nmachen und generationenübergreifende Brücken schlagen. \n  \nLesung | Di\, 16. Dezember 2025 | 18.00 – 22.00 \nOffen für alle \nAm Dienstag gibt es eine Lesung aus Queer Kids (2024)\, gelesen von Cristina Caprez und \neinigen der porträtierten Kinder und Jugendlichen. Sowie einen Büchertisch von \nQueerbooks und persönlich anwesende queere Autor*innen. Es wird ein grosses\, \nmehrheitlich veganes Apéro bereitstehen. \n  \nAlle Anlasse sind gratis und ohne Konsumzwang. Es gibt diverse alkoholfreie Getränke. \nFür alle Anlässe wird es ein Awareness- und Zugänglichkeitkonzept geben. Diese werden \nim Voraus auf Instagram und der Website kommuniziert. Bei Unklarheiten\, Fragen oder \nRückmeldungen könnt ihr uns gerne per E-Mail oder Instagram kontaktieren. \n  \nKontaktdaten: \nE-Mail: queerundland@gmail.com \nInstagram: @queerundland \nWebsite:max-wymann.kleio.com \n 
URL:https://milchjugend.ch/event/landgbtqia-anlaesse-zu-laendlichkeit-und-queerness/
LOCATION:Prozess Kultur & Bar Bern\, Bahnstrasse 44\, Bern\, BE\, 3008\, Schweiz
CATEGORIES:Austausch,Bar,Kunst,Literatur
ATTACH;FMTTYPE=image/png:https://milchjugend.ch/wp-content/uploads/2025/11/1-2.png
ORGANIZER;CN="LANDGBTQIA+":MAILTO:queerundland@gmail.com
GEO:46.9465787;7.4108317
X-APPLE-STRUCTURED-LOCATION;VALUE=URI;X-ADDRESS=Prozess Kultur & Bar Bern Bahnstrasse 44 Bern BE 3008 Schweiz;X-APPLE-RADIUS=500;X-TITLE=Bahnstrasse 44:geo:7.4108317,46.9465787
END:VEVENT
END:VCALENDAR