BEGIN:VCALENDAR
VERSION:2.0
PRODID:-//Milchjugend - ECPv6.15.19//NONSGML v1.0//EN
CALSCALE:GREGORIAN
METHOD:PUBLISH
X-ORIGINAL-URL:https://milchjugend.ch
X-WR-CALDESC:Veranstaltungen für Milchjugend
REFRESH-INTERVAL;VALUE=DURATION:PT1H
X-Robots-Tag:noindex
X-PUBLISHED-TTL:PT1H
BEGIN:VTIMEZONE
TZID:Europe/Zurich
BEGIN:DAYLIGHT
TZOFFSETFROM:+0100
TZOFFSETTO:+0200
TZNAME:CEST
DTSTART:20240331T010000
END:DAYLIGHT
BEGIN:STANDARD
TZOFFSETFROM:+0200
TZOFFSETTO:+0100
TZNAME:CET
DTSTART:20241027T010000
END:STANDARD
BEGIN:DAYLIGHT
TZOFFSETFROM:+0100
TZOFFSETTO:+0200
TZNAME:CEST
DTSTART:20250330T010000
END:DAYLIGHT
BEGIN:STANDARD
TZOFFSETFROM:+0200
TZOFFSETTO:+0100
TZNAME:CET
DTSTART:20251026T010000
END:STANDARD
BEGIN:DAYLIGHT
TZOFFSETFROM:+0100
TZOFFSETTO:+0200
TZNAME:CEST
DTSTART:20260329T010000
END:DAYLIGHT
BEGIN:STANDARD
TZOFFSETFROM:+0200
TZOFFSETTO:+0100
TZNAME:CET
DTSTART:20261025T010000
END:STANDARD
END:VTIMEZONE
BEGIN:VEVENT
DTSTART;TZID=Europe/Zurich:20251130T100000
DTEND;TZID=Europe/Zurich:20251130T130000
DTSTAMP:20260422T184733
CREATED:20251110T124441Z
LAST-MODIFIED:20251110T124806Z
UID:10003038-1764496800-1764507600@milchjugend.ch
SUMMARY:LANDGBTQIA+ – Anlässe zu Ländlichkeit & Queerness
DESCRIPTION:Veranstaltungen zu Ländlichkeit und Queerness \nIm Rahmen von Max Wymanns Kunstprojekt Berner Bauernqueeramik organisieren wir verschiedene Anlässe zu Ländlichkeit und Queerness. An allen Daten sind Prototypen der queeren Bauernkeramik sowie Einblicke in die Recherche zur Schweizer LGBTQIA+-Geschichte und zur Berner Bauernkeramik zu sehen. Das Rahmenprogramm soll ländliche Queers vernetzen\, unsere Community zugänglicher machen und generationenübergreifende Brücken schlagen. \n  \nBauer*innen Zmorge | So\, 30. November 2025 | 10.00 – 13.30 \nFür Queers\, die auf dem Land aufgewachsen sind oder dort leben. Bei einem reichhaltigen\, \nmehrheitlich veganen Brunch tauschen wir unsere Erfahrungen als ländliche Queers aus. \nEs gibt verschiedene Austauschformate\, in denen alle so viel teilen können\, wie sie möchten. \n  \nAlle Anlasse sind gratis und ohne Konsumzwang. Es gibt diverse alkoholfreie Getränke. \nFür alle Anlässe wird es ein Awareness- und Zugänglichkeitkonzept geben. Diese werden \nim Voraus auf Instagram und der Website kommuniziert. Bei Unklarheiten\, Fragen oder \nRückmeldungen könnt ihr uns gerne per E-Mail oder Instagram kontaktieren. \nKontaktdaten: \nE-Mail: queerundland@gmail.com \nInstagram: @queerundland \nWebsite:max-wymann.kleio.com
URL:https://milchjugend.ch/event/landgbtqia-anlaesse-zu-laendlichkeit-queerness/
LOCATION:Prozess Kultur & Bar\, Bahnstrasse 44\, Bern\, BE\, 3008\, Schweiz
CATEGORIES:Austausch,Bar,Kunst
ATTACH;FMTTYPE=image/png:https://milchjugend.ch/wp-content/uploads/2025/11/1.png
ORGANIZER;CN="LANDGBTQIA+":MAILTO:queerundland@gmail.com
GEO:46.9465787;7.4108317
X-APPLE-STRUCTURED-LOCATION;VALUE=URI;X-ADDRESS=Prozess Kultur & Bar Bahnstrasse 44 Bern BE 3008 Schweiz;X-APPLE-RADIUS=500;X-TITLE=Bahnstrasse 44:geo:7.4108317,46.9465787
END:VEVENT
END:VCALENDAR