BEGIN:VCALENDAR
VERSION:2.0
PRODID:-//Milchjugend - ECPv6.15.19//NONSGML v1.0//EN
CALSCALE:GREGORIAN
METHOD:PUBLISH
X-ORIGINAL-URL:https://milchjugend.ch
X-WR-CALDESC:Veranstaltungen für Milchjugend
REFRESH-INTERVAL;VALUE=DURATION:PT1H
X-Robots-Tag:noindex
X-PUBLISHED-TTL:PT1H
BEGIN:VTIMEZONE
TZID:Europe/Zurich
BEGIN:DAYLIGHT
TZOFFSETFROM:+0100
TZOFFSETTO:+0200
TZNAME:CEST
DTSTART:20250330T010000
END:DAYLIGHT
BEGIN:STANDARD
TZOFFSETFROM:+0200
TZOFFSETTO:+0100
TZNAME:CET
DTSTART:20251026T010000
END:STANDARD
BEGIN:DAYLIGHT
TZOFFSETFROM:+0100
TZOFFSETTO:+0200
TZNAME:CEST
DTSTART:20260329T010000
END:DAYLIGHT
BEGIN:STANDARD
TZOFFSETFROM:+0200
TZOFFSETTO:+0100
TZNAME:CET
DTSTART:20261025T010000
END:STANDARD
BEGIN:DAYLIGHT
TZOFFSETFROM:+0100
TZOFFSETTO:+0200
TZNAME:CEST
DTSTART:20270328T010000
END:DAYLIGHT
BEGIN:STANDARD
TZOFFSETFROM:+0200
TZOFFSETTO:+0100
TZNAME:CET
DTSTART:20271031T010000
END:STANDARD
END:VTIMEZONE
BEGIN:VEVENT
DTSTART;TZID=Europe/Zurich:20260111T170000
DTEND;TZID=Europe/Zurich:20260111T183000
DTSTAMP:20260422T173039
CREATED:20260108T145819Z
LAST-MODIFIED:20260108T150108Z
UID:10003232-1768150800-1768156200@milchjugend.ch
SUMMARY:Musiktheater: Das Luftschiff
DESCRIPTION:In einer retro-futuristischen Zukunft hängt eine alternde Dragqueen ihren Erinnerungen nach. Aufgrund des Platzmangels und der prekären Wohnsituation von Metropolis ist das ganze Leben in Koffer verpackt. Die Stimmung ist apokalyptisch\, auf den Strassen ist ein Mob auf der Jagd nach Freaks\, wie sie Dragqueens nennen. Inzwischen sind alle Fluchtwege von und zu Metropolis gesperrt. Es bliebe nur die Luft. Tant pis! Nach und nach tauchen imaginäre Freund:innen der Dragqueen in der immer voller und lustiger werdenden Mansarde auf. Puppen\, flackernde Souvenir-Videos oder Projektionen. Sie erzählen und besingen Geschichten und Witze von Verlorensein\, Flucht und Gewalt. Mit der wachsenden Solidarität wird das zunächst imaginäre Beziehungsnetz immer konkreter und verdeutlicht die einst soziale Realität der Dragqueen. In einem letzten Rausch erträumen sich die Dragqueen und die anderen Flüchtenden ein Luftschiff zu ihrer Rettung.
URL:https://milchjugend.ch/event/musiktheater-das-luftschiff/2026-01-11/
LOCATION:Tuchlaube Aarau\, Metzgergasse 18\, Aarau\, AG\, 5000\, Schweiz
CATEGORIES:Theater
ATTACH;FMTTYPE=image/jpeg:https://milchjugend.ch/wp-content/uploads/2026/01/Luftschiff_11_©Astride-Schlaefli.jpg
ORGANIZER;CN="B%C3%BChne Aarau":MAILTO:mail@buehne-aarau.ch
GEO:47.3937799;8.0438301
X-APPLE-STRUCTURED-LOCATION;VALUE=URI;X-ADDRESS=Tuchlaube Aarau Metzgergasse 18 Aarau AG 5000 Schweiz;X-APPLE-RADIUS=500;X-TITLE=Metzgergasse 18:geo:8.0438301,47.3937799
END:VEVENT
BEGIN:VEVENT
DTSTART;TZID=Europe/Zurich:20260110T200000
DTEND;TZID=Europe/Zurich:20260110T213000
DTSTAMP:20260422T173039
CREATED:20260108T145819Z
LAST-MODIFIED:20260108T150108Z
UID:10003231-1768075200-1768080600@milchjugend.ch
SUMMARY:Musiktheater: Das Luftschiff
DESCRIPTION:In einer retro-futuristischen Zukunft hängt eine alternde Dragqueen ihren Erinnerungen nach. Aufgrund des Platzmangels und der prekären Wohnsituation von Metropolis ist das ganze Leben in Koffer verpackt. Die Stimmung ist apokalyptisch\, auf den Strassen ist ein Mob auf der Jagd nach Freaks\, wie sie Dragqueens nennen. Inzwischen sind alle Fluchtwege von und zu Metropolis gesperrt. Es bliebe nur die Luft. Tant pis! Nach und nach tauchen imaginäre Freund:innen der Dragqueen in der immer voller und lustiger werdenden Mansarde auf. Puppen\, flackernde Souvenir-Videos oder Projektionen. Sie erzählen und besingen Geschichten und Witze von Verlorensein\, Flucht und Gewalt. Mit der wachsenden Solidarität wird das zunächst imaginäre Beziehungsnetz immer konkreter und verdeutlicht die einst soziale Realität der Dragqueen. In einem letzten Rausch erträumen sich die Dragqueen und die anderen Flüchtenden ein Luftschiff zu ihrer Rettung.
URL:https://milchjugend.ch/event/musiktheater-das-luftschiff/2026-01-10/
LOCATION:Tuchlaube Aarau\, Metzgergasse 18\, Aarau\, AG\, 5000\, Schweiz
CATEGORIES:Theater
ATTACH;FMTTYPE=image/jpeg:https://milchjugend.ch/wp-content/uploads/2026/01/Luftschiff_11_©Astride-Schlaefli.jpg
ORGANIZER;CN="B%C3%BChne Aarau":MAILTO:mail@buehne-aarau.ch
GEO:47.3937799;8.0438301
X-APPLE-STRUCTURED-LOCATION;VALUE=URI;X-ADDRESS=Tuchlaube Aarau Metzgergasse 18 Aarau AG 5000 Schweiz;X-APPLE-RADIUS=500;X-TITLE=Metzgergasse 18:geo:8.0438301,47.3937799
END:VEVENT
BEGIN:VEVENT
DTSTART;TZID=Europe/Zurich:20260108T200000
DTEND;TZID=Europe/Zurich:20260108T213000
DTSTAMP:20260422T173039
CREATED:20260108T145819Z
LAST-MODIFIED:20260108T150108Z
UID:10003233-1767902400-1767907800@milchjugend.ch
SUMMARY:Musiktheater: Das Luftschiff
DESCRIPTION:In einer retro-futuristischen Zukunft hängt eine alternde Dragqueen ihren Erinnerungen nach. Aufgrund des Platzmangels und der prekären Wohnsituation von Metropolis ist das ganze Leben in Koffer verpackt. Die Stimmung ist apokalyptisch\, auf den Strassen ist ein Mob auf der Jagd nach Freaks\, wie sie Dragqueens nennen. Inzwischen sind alle Fluchtwege von und zu Metropolis gesperrt. Es bliebe nur die Luft. Tant pis! Nach und nach tauchen imaginäre Freund:innen der Dragqueen in der immer voller und lustiger werdenden Mansarde auf. Puppen\, flackernde Souvenir-Videos oder Projektionen. Sie erzählen und besingen Geschichten und Witze von Verlorensein\, Flucht und Gewalt. Mit der wachsenden Solidarität wird das zunächst imaginäre Beziehungsnetz immer konkreter und verdeutlicht die einst soziale Realität der Dragqueen. In einem letzten Rausch erträumen sich die Dragqueen und die anderen Flüchtenden ein Luftschiff zu ihrer Rettung.
URL:https://milchjugend.ch/event/musiktheater-das-luftschiff/2026-01-08/
LOCATION:Tuchlaube Aarau\, Metzgergasse 18\, Aarau\, AG\, 5000\, Schweiz
CATEGORIES:Theater
ATTACH;FMTTYPE=image/jpeg:https://milchjugend.ch/wp-content/uploads/2026/01/Luftschiff_11_©Astride-Schlaefli.jpg
ORGANIZER;CN="B%C3%BChne Aarau":MAILTO:mail@buehne-aarau.ch
GEO:47.3937799;8.0438301
X-APPLE-STRUCTURED-LOCATION;VALUE=URI;X-ADDRESS=Tuchlaube Aarau Metzgergasse 18 Aarau AG 5000 Schweiz;X-APPLE-RADIUS=500;X-TITLE=Metzgergasse 18:geo:8.0438301,47.3937799
END:VEVENT
END:VCALENDAR